BEGIN:VCALENDAR
VERSION:2.0
PRODID:-//The Builders Group - ECPv6.15.15//NONSGML v1.0//EN
CALSCALE:GREGORIAN
METHOD:PUBLISH
X-ORIGINAL-URL:https://tbgmn.com
X-WR-CALDESC:Events for The Builders Group
REFRESH-INTERVAL;VALUE=DURATION:PT1H
X-Robots-Tag:noindex
X-PUBLISHED-TTL:PT1H
BEGIN:VTIMEZONE
TZID:America/Chicago
BEGIN:DAYLIGHT
TZOFFSETFROM:-0600
TZOFFSETTO:-0500
TZNAME:CDT
DTSTART:20210314T080000
END:DAYLIGHT
BEGIN:STANDARD
TZOFFSETFROM:-0500
TZOFFSETTO:-0600
TZNAME:CST
DTSTART:20211107T070000
END:STANDARD
BEGIN:DAYLIGHT
TZOFFSETFROM:-0600
TZOFFSETTO:-0500
TZNAME:CDT
DTSTART:20220313T080000
END:DAYLIGHT
BEGIN:STANDARD
TZOFFSETFROM:-0500
TZOFFSETTO:-0600
TZNAME:CST
DTSTART:20221106T070000
END:STANDARD
BEGIN:DAYLIGHT
TZOFFSETFROM:-0600
TZOFFSETTO:-0500
TZNAME:CDT
DTSTART:20230312T080000
END:DAYLIGHT
BEGIN:STANDARD
TZOFFSETFROM:-0500
TZOFFSETTO:-0600
TZNAME:CST
DTSTART:20231105T070000
END:STANDARD
END:VTIMEZONE
BEGIN:VEVENT
DTSTART;TZID=America/Chicago:20220421T083000
DTEND;TZID=America/Chicago:20220421T113000
DTSTAMP:20260422T082644
CREATED:20220208T194609Z
LAST-MODIFIED:20220208T194609Z
UID:9367-1650529800-1650540600@tbgmn.com
SUMMARY:2 PART SUPERVISOR TRAINING TRANSITIONING FROM “BUDDY TO BOSS” SESSION 2 OF 2
DESCRIPTION:This is a 2 Part Supervisor Training Course – attendance is required for both sessions. Session 1 was March 8\, 2022. Thanks to the TBG Safety Service Association\, these training courses are free to attend. However\, if both sessions are not attended by the same registrant\, a $50 fee will be charged.  \nThis Leadership Series will focus on the challenges supervisors face in construction related industries\, and is designed to help you become a more effective leader. Regardless if you are new to the supervisor position\, have overseen employees for decades\, manage one employee or many dozens; participants will gain valuable knowledge and takeaway key action items surrounding the following topics. \nSession 2: April 21st\, 8:30-11:30 am at TBG\n1. Learn to identify your leadership style.\n2. Understand the leadership styles of others.\n3. Utilize other leadership styles when communicating with coworkers for maximum effectiveness.\n4. Go from buddy to boss.\n5. Building your team.\n6. Incorporating safety.\n7. Communication styles.\n8. Case Studies (FSL Scenarios).
URL:https://tbgmn.com/event/2-part-supervisor-training-transitioning-from-buddy-to-boss-session-2-of-2/
LOCATION:TBG Training Center\, 2919 Eagandale Blvd\, Eagan\, MN\, 55121\, United States
END:VEVENT
END:VCALENDAR