BEGIN:VCALENDAR
VERSION:2.0
PRODID:-//The Builders Group - ECPv6.15.15//NONSGML v1.0//EN
CALSCALE:GREGORIAN
METHOD:PUBLISH
X-WR-CALNAME:The Builders Group
X-ORIGINAL-URL:https://tbgmn.com
X-WR-CALDESC:Events for The Builders Group
REFRESH-INTERVAL;VALUE=DURATION:PT1H
X-Robots-Tag:noindex
X-PUBLISHED-TTL:PT1H
BEGIN:VTIMEZONE
TZID:UTC
BEGIN:STANDARD
TZOFFSETFROM:+0000
TZOFFSETTO:+0000
TZNAME:UTC
DTSTART:20210101T000000
END:STANDARD
END:VTIMEZONE
BEGIN:VEVENT
DTSTART;TZID=UTC:20220518T070000
DTEND;TZID=UTC:20220518T153000
DTSTAMP:20260421T072109
CREATED:20220310T210437Z
LAST-MODIFIED:20220310T210437Z
UID:9399-1652857200-1652887800@tbgmn.com
SUMMARY:OSHA Construction Safety Outreach 10 Hour Course Day 1 of 2
DESCRIPTION:This class will provide an in depth look at compliance and safety issues related to the OSHA training curriculum set forth for the OSHA 10 Hour Construction Safety class. Topics to include Fall Protection\, Electrical Safety\, Excavation Safety\, Hand/Power Tools & several more topics necessary to complete the course objectives. \nWhen:\nWednesday\, May 18\, 7:00 AM to 3:30 PM with lunch provided\nThursday\, May 19\, 7:00 AM to 11:00 AM\n*Please note that registration is only required for Day One.*\n**Attendance is required for Day One & Two to complete the 10 hour requirement.** \nCost for the following type of participants:\n~$100 per person for TBG Members\n~$120 per Association member (ABC\, MSA)\n~$275 per non-member of TBG\n~FREE – Starting in 2022 as a benefit of the TBG Safety Service Association all members will have two FREE OSHA 10 registrations per year. Once those two FREE registrations are used\, the cost to participate will then be $100 per member.  \nRegistration closes May 16th\, 2022. If after May 16th\, contact Priscilla at pconway@tbg.jcwcreative.com to check for availability. Cancelations must occur ten days before the event for a refund. \nIf registration is full\, please contact Priscilla (pconway@tbg.jcwcreative.com) to be placed on a waiting list. \n**Facemasks are optional** \n**Please note that all OSHA 10 courses are subject to cancellation if a 10 person minimum attendance is not reached. Registrants will be notified if the course is canceled and will be offered to attend a course at a further date. Your payment will be applied to the next available OSHA 10 Course or you can request a refund.
URL:https://tbgmn.com/event/osha-construction-safety-outreach-10-hour-course-day-1-of-2-9/
LOCATION:TBG Training Center\, 2919 Eagandale Blvd\, Eagan\, MN\, 55121\, United States
END:VEVENT
END:VCALENDAR