BEGIN:VCALENDAR
VERSION:2.0
PRODID:-//The Builders Group - ECPv6.15.15//NONSGML v1.0//EN
CALSCALE:GREGORIAN
METHOD:PUBLISH
X-ORIGINAL-URL:https://tbgmn.com
X-WR-CALDESC:Events for The Builders Group
REFRESH-INTERVAL;VALUE=DURATION:PT1H
X-Robots-Tag:noindex
X-PUBLISHED-TTL:PT1H
BEGIN:VTIMEZONE
TZID:America/Chicago
BEGIN:DAYLIGHT
TZOFFSETFROM:-0600
TZOFFSETTO:-0500
TZNAME:CDT
DTSTART:20210314T080000
END:DAYLIGHT
BEGIN:STANDARD
TZOFFSETFROM:-0500
TZOFFSETTO:-0600
TZNAME:CST
DTSTART:20211107T070000
END:STANDARD
BEGIN:DAYLIGHT
TZOFFSETFROM:-0600
TZOFFSETTO:-0500
TZNAME:CDT
DTSTART:20220313T080000
END:DAYLIGHT
BEGIN:STANDARD
TZOFFSETFROM:-0500
TZOFFSETTO:-0600
TZNAME:CST
DTSTART:20221106T070000
END:STANDARD
BEGIN:DAYLIGHT
TZOFFSETFROM:-0600
TZOFFSETTO:-0500
TZNAME:CDT
DTSTART:20230312T080000
END:DAYLIGHT
BEGIN:STANDARD
TZOFFSETFROM:-0500
TZOFFSETTO:-0600
TZNAME:CST
DTSTART:20231105T070000
END:STANDARD
END:VTIMEZONE
BEGIN:VEVENT
DTSTART;TZID=America/Chicago:20220615T070000
DTEND;TZID=America/Chicago:20220615T153000
DTSTAMP:20260420T062650
CREATED:20220314T192744Z
LAST-MODIFIED:20220314T192744Z
UID:9413-1655276400-1655307000@tbgmn.com
SUMMARY:OSHA Construction Safety Outreach 10 Hour Course Day 1 of 2
DESCRIPTION:This class will provide an in depth look at compliance and safety issues related to the OSHA training curriculum set forth for the OSHA 10 Hour Construction Safety class. Topics to include Fall Protection\, Electrical Safety\, Excavation Safety\, Hand/Power Tools & several more topics necessary to complete the course objectives. \nWhen:\nWednesday\, June 15\, 7:00 AM to 3:30 PM with lunch provided\nThursday\, June 16\, 7:00 AM to 11:00 AM\n*Please note that registration is only required for Day One.*\n**Attendance is required for Day One & Two to complete the 10 hour requirement.** \nCost for the following type of participants:\n~$100 per person for TBG Members\n~$120 per Association member (ABC\, MSA)\n~$275 per non-member of TBG \n~ FREE – Starting in 2022 as a benefit of the TBG Safety Service Association all members will have two FREE OSHA 10 registrations per year. Once those two FREE registrations are used\, the cost to participate will then be $100 per member.  \nRegistration closes June 13th\, 2022. If after June 13th\, contact Priscilla at pconway@tbg.jcwcreative.com to check for availability. Cancelations must occur ten days before the event for a refund. \nIf registration is full\, please contact Priscilla (pconway@tbg.jcwcreative.com) to be placed on a waiting list. \n**Facemasks are optional** \n**Please note that all OSHA 10 courses are subject to cancellation if a 10 person minimum attendance is not reached. Registrants will be notified if the course is canceled and will be offered to attend a course at a further date. Your payment will be applied to the next available OSHA 10 Course or you can request a refund.
URL:https://tbgmn.com/event/osha-construction-safety-outreach-10-hour-course-day-1-of-2-11/
LOCATION:MN
END:VEVENT
END:VCALENDAR